BEGIN:VCALENDAR
VERSION:2.0
PRODID:-//APHL - ECPv5.7.1//NONSGML v1.0//EN
CALSCALE:GREGORIAN
METHOD:PUBLISH
X-WR-CALNAME:APHL
X-ORIGINAL-URL:https://aphl.lu
X-WR-CALDESC:évènements pour APHL
BEGIN:VTIMEZONE
TZID:UTC
BEGIN:STANDARD
TZOFFSETFROM:+0000
TZOFFSETTO:+0000
TZNAME:UTC
DTSTART:20190101T000000
END:STANDARD
END:VTIMEZONE
BEGIN:VEVENT
DTSTART;VALUE=DATE:20191003
DTEND;VALUE=DATE:20191004
DTSTAMP:20210722T110723
CREATED:20190202T094444Z
LAST-MODIFIED:20191008T103032Z
UID:1795-1570060800-1570147199@aphl.lu
SUMMARY:APHL: Gérontopsychiatrie
DESCRIPTION:Formateur: \nHervé Javelot\nEtablissement Public de Santé Alsace Nord\nLieu:\nCentre Hospitalier du Nord\nPrésentation:\nCliquer ici pour télécharger la présentation (parte 1)\nCliquer ici pour télécharger la présentation (parte 2)
URL:https://aphl.lu/evenement/gerontopsychiatrie
CATEGORIES:2019,Formation
ATTACH;FMTTYPE=image/png:https://aphl.lu/wp-content/uploads/2019/02/Screen-Shot-2015-09-18-at-11.11.08-AM.png
END:VEVENT
END:VCALENDAR