BEGIN:VCALENDAR
VERSION:2.0
PRODID:-//APHL - ECPv5.7.1//NONSGML v1.0//EN
CALSCALE:GREGORIAN
METHOD:PUBLISH
X-WR-CALNAME:APHL
X-ORIGINAL-URL:https://aphl.lu
X-WR-CALDESC:évènements pour APHL
BEGIN:VTIMEZONE
TZID:UTC
BEGIN:STANDARD
TZOFFSETFROM:+0000
TZOFFSETTO:+0000
TZNAME:UTC
DTSTART:20190101T000000
END:STANDARD
END:VTIMEZONE
BEGIN:VEVENT
DTSTART;VALUE=DATE:20190928
DTEND;VALUE=DATE:20190929
DTSTAMP:20210722T110818
CREATED:20190604T083005Z
LAST-MODIFIED:20190612T142428Z
UID:3643-1569628800-1569715199@aphl.lu
SUMMARY:DeWidong: Formation sur le bon usage des antibiotiques
DESCRIPTION:Formateur: \nPlusieurs formateurs\nLieu:\nMaison du Savoir\, Belval\, Luxembourg\nInscription:\nCliquer ici pour l’inscription
URL:https://aphl.lu/evenement/gerontopsychiatrie-copy
CATEGORIES:2019,Formation
ATTACH;FMTTYPE=image/png:https://aphl.lu/wp-content/uploads/2019/06/36252-environnement-pollue-antibiotiques-bacteries-gloutonnes-rescousse.png
END:VEVENT
END:VCALENDAR