BEGIN:VCALENDAR
VERSION:2.0
PRODID:-//APHL - ECPv4.9.3.1//NONSGML v1.0//EN
CALSCALE:GREGORIAN
METHOD:PUBLISH
X-WR-CALNAME:APHL
X-ORIGINAL-URL:http://aphl.lu
X-WR-CALDESC:Évènements pour APHL
BEGIN:VEVENT
DTSTART;VALUE=DATE:20190624
DTEND;VALUE=DATE:20190629
DTSTAMP:20200124T041011
CREATED:20190423T174741Z
LAST-MODIFIED:20190612T142750Z
UID:3476-1561334400-1561766399@aphl.lu
SUMMARY:EUSOP: European Specialization in Oncology Pharmacy\, Hamburg
DESCRIPTION:Formateur:\nPlusieurs formateurs\nDétails: \nCliquer ici pour voir le programme\nCliquer ici pour télécharger le formulaire d’inscription\nLieu:\nElbLOGE Hamburg\, Allemagne\n
URL:http://aphl.lu/evenement/retour-eahp-copy
CATEGORIES:2019,Formation
ATTACH;FMTTYPE=image/png:http://aphl.lu/wp-content/uploads/2019/04/whaaaaaaaaaat.png
END:VEVENT
END:VCALENDAR