BEGIN:VCALENDAR
VERSION:2.0
PRODID:-//APHL - ECPv4.9.3.1//NONSGML v1.0//EN
CALSCALE:GREGORIAN
METHOD:PUBLISH
X-WR-CALNAME:APHL
X-ORIGINAL-URL:http://aphl.lu
X-WR-CALDESC:Évènements pour APHL
BEGIN:VEVENT
DTSTART;VALUE=DATE:20190321
DTEND;VALUE=DATE:20190322
DTSTAMP:20200124T041217
CREATED:20190202T094215Z
LAST-MODIFIED:20190612T143559Z
UID:1791-1553126400-1553212799@aphl.lu
SUMMARY:APHL: Radiopharmacie
DESCRIPTION:Formateur:\nJoel Aerts\nResponsable développement Radio-pharmacie\nCHL Luxembourg\nLieu:\nCentre Hospitalier de Luxembourg\, Luxembourg\nPrésentation:\nCliquer ici pour télécharger la présentation\n
URL:http://aphl.lu/evenement/radiopharmacie
CATEGORIES:2019,Formation
ATTACH;FMTTYPE=image/gif:http://aphl.lu/wp-content/uploads/2019/02/Radiofarmaci_1_50721.gif
END:VEVENT
END:VCALENDAR