BEGIN:VCALENDAR
VERSION:2.0
PRODID:-//APHL - ECPv4.9.3.1//NONSGML v1.0//EN
CALSCALE:GREGORIAN
METHOD:PUBLISH
X-WR-CALNAME:APHL
X-ORIGINAL-URL:http://aphl.lu
X-WR-CALDESC:Évènements pour APHL
BEGIN:VEVENT
DTSTART;VALUE=DATE:20190131
DTEND;VALUE=DATE:20190201
DTSTAMP:20200124T041250
CREATED:20190202T093832Z
LAST-MODIFIED:20190612T143649Z
UID:1788-1548892800-1548979199@aphl.lu
SUMMARY:APHL: Insuffisance cardiaque
DESCRIPTION:Formateurs:\nIsabelle Noppe\nCardiologue\nCentre Hospitalier de Luxembourg\nAnne Otto\nPharmacien gérant\nHôpital Robert Schumann\nLieu:\nCentre Hospitalier de Luxembourg (Kannerklinik)\, Luxembourg\n
URL:http://aphl.lu/evenement/insuffisance-cardiaque
CATEGORIES:Formation
ATTACH;FMTTYPE=image/jpeg:http://aphl.lu/wp-content/uploads/2019/02/aggiusti-la-tenuta-del-cuore-rosso-con-lo-stetoscopio-la-salute-del-cuore-il-concetto-dell-assicurazione-malattia_49149-301.jpg
END:VEVENT
END:VCALENDAR