BEGIN:VCALENDAR
VERSION:2.0
PRODID:-//APHL - ECPv4.9.3.1//NONSGML v1.0//EN
CALSCALE:GREGORIAN
METHOD:PUBLISH
X-WR-CALNAME:APHL
X-ORIGINAL-URL:http://aphl.lu
X-WR-CALDESC:Évènements pour APHL
BEGIN:VEVENT
DTSTART;VALUE=DATE:20181122
DTEND;VALUE=DATE:20181123
DTSTAMP:20200124T041342
CREATED:20190423T171358Z
LAST-MODIFIED:20190612T143744Z
UID:3467-1542844800-1542931199@aphl.lu
SUMMARY:APHL: Anticoagulants oraux directs
DESCRIPTION:Formateurs:\nAnne-Laure Senessael\nPharmacien Hospitalier\nLondon’s Global University\nLieu:\nCentre Hospitalier de Luxembourg (Kannerklinik)\, Luxembourg\nPrésentation:\nCliquer ici pour télécharger la présentation\n
URL:http://aphl.lu/evenement/insuffisance-cardiaque-copy
CATEGORIES:Formation
ATTACH;FMTTYPE=image/jpeg:http://aphl.lu/wp-content/uploads/2019/04/Farmaci_Anticoagulanti_99731.jpg
END:VEVENT
END:VCALENDAR