BEGIN:VCALENDAR
VERSION:2.0
PRODID:-//APHL - ECPv4.9.3.1//NONSGML v1.0//EN
CALSCALE:GREGORIAN
METHOD:PUBLISH
X-WR-CALNAME:APHL
X-ORIGINAL-URL:http://aphl.lu
X-WR-CALDESC:Évènements pour APHL
BEGIN:VEVENT
DTSTART;VALUE=DATE:20190523
DTEND;VALUE=DATE:20190524
DTSTAMP:20200124T041129
CREATED:20190423T180321Z
LAST-MODIFIED:20190612T143515Z
UID:3484-1558569600-1558655999@aphl.lu
SUMMARY:APHL: Retour Congrés EAHP
DESCRIPTION:Formateur:\nSara Macchi\nPharmacien Hospitalier\nCentre Hospitalier de Luxembourg\nLieu:\nCentre Hospitalier de Luxembourg\, Luxembourg\nPrésentation:\nCliquer ici pour télécharger la présentation\n
URL:http://aphl.lu/evenement/gerontopsychiatrie-copy-copy-copy
CATEGORIES:2019,Formation
ATTACH;FMTTYPE=image/jpeg:http://aphl.lu/wp-content/uploads/2019/02/Barcelona_ShVYbG5.max-2000x1000.jpg
END:VEVENT
END:VCALENDAR